BEGIN:VCALENDAR
VERSION:2.0
PRODID:-//Umeå Shotokan Karate - ECPv6.10.2//NONSGML v1.0//EN
CALSCALE:GREGORIAN
METHOD:PUBLISH
X-ORIGINAL-URL:https://umeashotokan.se
X-WR-CALDESC:Events for Umeå Shotokan Karate
REFRESH-INTERVAL;VALUE=DURATION:PT1H
X-Robots-Tag:noindex
X-PUBLISHED-TTL:PT1H
BEGIN:VTIMEZONE
TZID:Europe/Helsinki
BEGIN:DAYLIGHT
TZOFFSETFROM:+0200
TZOFFSETTO:+0300
TZNAME:EEST
DTSTART:20230326T010000
END:DAYLIGHT
BEGIN:STANDARD
TZOFFSETFROM:+0300
TZOFFSETTO:+0200
TZNAME:EET
DTSTART:20231029T010000
END:STANDARD
BEGIN:DAYLIGHT
TZOFFSETFROM:+0200
TZOFFSETTO:+0300
TZNAME:EEST
DTSTART:20240331T010000
END:DAYLIGHT
BEGIN:STANDARD
TZOFFSETFROM:+0300
TZOFFSETTO:+0200
TZNAME:EET
DTSTART:20241027T010000
END:STANDARD
BEGIN:DAYLIGHT
TZOFFSETFROM:+0200
TZOFFSETTO:+0300
TZNAME:EEST
DTSTART:20250330T010000
END:DAYLIGHT
BEGIN:STANDARD
TZOFFSETFROM:+0300
TZOFFSETTO:+0200
TZNAME:EET
DTSTART:20251026T010000
END:STANDARD
END:VTIMEZONE
BEGIN:VEVENT
DTSTART;TZID=Europe/Helsinki:20251210T191500
DTEND;TZID=Europe/Helsinki:20251210T210000
DTSTAMP:20260424T183237
CREATED:20251207T202107Z
LAST-MODIFIED:20251207T202107Z
UID:3498-1765394100-1765400400@umeashotokan.se
SUMMARY:Gradering Vuxna
DESCRIPTION:Var gärna på platsredan 19.00_ för att fylla i papper och värma upp! Vi vill kunna startagraderingen så tidigt som möjligt.Barngruppen kommer att vara åskådare\, så länge de vill vara kvar.
URL:https://umeashotokan.se/evenemang/gradering-vuxna/
END:VEVENT
BEGIN:VEVENT
DTSTART;TZID=Europe/Helsinki:20251209T183000
DTEND;TZID=Europe/Helsinki:20251209T210000
DTSTAMP:20260424T183237
CREATED:20251207T201859Z
LAST-MODIFIED:20251207T201859Z
UID:3496-1765305000-1765314000@umeashotokan.se
SUMMARY:Graderingsträning vuxna
DESCRIPTION:Graderingsträning vuxna
URL:https://umeashotokan.se/evenemang/graderingstraning-vuxna/
END:VEVENT
BEGIN:VEVENT
DTSTART;TZID=Europe/Helsinki:20251203T183000
DTEND;TZID=Europe/Helsinki:20251203T210000
DTSTAMP:20260424T183237
CREATED:20251207T202227Z
LAST-MODIFIED:20251207T202227Z
UID:3500-1764786600-1764795600@umeashotokan.se
SUMMARY:Gradering Barn
DESCRIPTION:
URL:https://umeashotokan.se/evenemang/gradering-barn/
END:VEVENT
BEGIN:VEVENT
DTSTART;TZID=Europe/Helsinki:20251202T183000
DTEND;TZID=Europe/Helsinki:20251202T200000
DTSTAMP:20260424T183237
CREATED:20251207T202321Z
LAST-MODIFIED:20251207T202321Z
UID:3502-1764700200-1764705600@umeashotokan.se
SUMMARY:Graderingsträning Barn
DESCRIPTION:
URL:https://umeashotokan.se/evenemang/graderingstraning-barn/
END:VEVENT
BEGIN:VEVENT
DTSTART;TZID=Europe/Helsinki:20250524T140000
DTEND;TZID=Europe/Helsinki:20250524T180000
DTSTAMP:20260424T183237
CREATED:20250409T192311Z
LAST-MODIFIED:20250515T135422Z
UID:3450-1748095200-1748109600@umeashotokan.se
SUMMARY:Avslutning
DESCRIPTION:Avslutningsgrillning\nLördag 24/5 klockan 14 samlas vi nedanför Bräntberget och grillar korv tillsammans
URL:https://umeashotokan.se/evenemang/avslutning/
END:VEVENT
BEGIN:VEVENT
DTSTART;VALUE=DATE:20250515
DTEND;VALUE=DATE:20250516
DTSTAMP:20260424T183237
CREATED:20250409T203115Z
LAST-MODIFIED:20250409T203115Z
UID:3457-1747267200-1747353599@umeashotokan.se
SUMMARY:Barnavslutning
DESCRIPTION:Mer info kommer
URL:https://umeashotokan.se/evenemang/barnavslutning/
END:VEVENT
BEGIN:VEVENT
DTSTART;VALUE=DATE:20250514
DTEND;VALUE=DATE:20250515
DTSTAMP:20260424T183237
CREATED:20250409T192657Z
LAST-MODIFIED:20250409T192657Z
UID:3454-1747180800-1747267199@umeashotokan.se
SUMMARY:Knatteavslutning
DESCRIPTION:Mer info kommer
URL:https://umeashotokan.se/evenemang/knatteavslutning/
END:VEVENT
BEGIN:VEVENT
DTSTART;VALUE=DATE:20250510
DTEND;VALUE=DATE:20250512
DTSTAMP:20260424T183237
CREATED:20250409T191119Z
LAST-MODIFIED:20250409T191119Z
UID:3448-1746835200-1747007999@umeashotokan.se
SUMMARY:Gradering Vårtermin 2025
DESCRIPTION:Mer info kommer
URL:https://umeashotokan.se/evenemang/gradering-vartermin-2025/
END:VEVENT
BEGIN:VEVENT
DTSTART;TZID=Europe/Helsinki:20250501T183000
DTEND;TZID=Europe/Helsinki:20250501T200000
DTSTAMP:20260424T183237
CREATED:20250428T193829Z
LAST-MODIFIED:20250428T193829Z
UID:3471-1746124200-1746129600@umeashotokan.se
SUMMARY:Inställd träning
DESCRIPTION:1 Maj
URL:https://umeashotokan.se/evenemang/installd-traning-2/
END:VEVENT
BEGIN:VEVENT
DTSTART;TZID=Europe/Helsinki:20250430T180000
DTEND;TZID=Europe/Helsinki:20250430T200000
DTSTAMP:20260424T183237
CREATED:20250428T193700Z
LAST-MODIFIED:20250428T193700Z
UID:3469-1746036000-1746043200@umeashotokan.se
SUMMARY:Inställd träning
DESCRIPTION:Valborg
URL:https://umeashotokan.se/evenemang/installd-traning/
END:VEVENT
BEGIN:VEVENT
DTSTART;VALUE=DATE:20250120
DTEND;VALUE=DATE:20250121
DTSTAMP:20260424T183237
CREATED:20241215T064053Z
LAST-MODIFIED:20241215T064053Z
UID:3383-1737331200-1737417599@umeashotokan.se
SUMMARY:Nybörjarstart: Från och med v 4\, 20 januari tar vi emot nybörjare.
DESCRIPTION:Läs mer på
URL:https://umeashotokan.se/evenemang/nyborjarstart-fran-och-med-v-4-20-januari-tar-vi-emot-nyborjare/
END:VEVENT
BEGIN:VEVENT
DTSTART;VALUE=DATE:20250107
DTEND;VALUE=DATE:20250108
DTSTAMP:20260424T183237
CREATED:20241215T063616Z
LAST-MODIFIED:20241215T063616Z
UID:3381-1736208000-1736294399@umeashotokan.se
SUMMARY:Terminsstart: Tisdag 7 januari
DESCRIPTION:Vårteminen 2025: Nu börjar vi träna igen.
URL:https://umeashotokan.se/evenemang/terminsstart-tisdag-7-januari/
END:VEVENT
BEGIN:VEVENT
DTSTART;VALUE=DATE:20241219
DTEND;VALUE=DATE:20241220
DTSTAMP:20260424T183237
CREATED:20241215T062807Z
LAST-MODIFIED:20241215T063117Z
UID:3379-1734566400-1734652799@umeashotokan.se
SUMMARY:Sista  träningen för terminen. Ungdom och vuxengruppen
DESCRIPTION:Sista träningen för terminen. \nGod Jul och Gott Nytt År \n 
URL:https://umeashotokan.se/evenemang/sista-traningen-for-terminen-ungdom-och-vuxengruppen/
END:VEVENT
BEGIN:VEVENT
DTSTART;VALUE=DATE:20241218
DTEND;VALUE=DATE:20241219
DTSTAMP:20260424T183237
CREATED:20241215T062258Z
LAST-MODIFIED:20241215T062258Z
UID:3376-1734480000-1734566399@umeashotokan.se
SUMMARY:Terminsavslutning för Knatte- och aBrngruppen
DESCRIPTION:Knattegruppen kl 18-19 \nBarngruppen kl 19-20
URL:https://umeashotokan.se/evenemang/terminsavslutning-for-knatte-och-abrngruppen/
END:VEVENT
BEGIN:VEVENT
DTSTART;VALUE=DATE:20241215
DTEND;VALUE=DATE:20241216
DTSTAMP:20260424T183237
CREATED:20241215T061828Z
LAST-MODIFIED:20241215T070755Z
UID:3374-1734220800-1734307199@umeashotokan.se
SUMMARY:Gradering 14-15 december
DESCRIPTION:Plats: Berghemsskolan \nLördag 14 december \n  \nKl 10:00 – 11:30               Barn\, Ungdomar och vuxna. \n  \nKl 14:00 – 15:30               Barn\, Ungdomar och vuxna. \n  \n  \nSöndag 15 december \n  \nKl 11:00–14.00                                      Gradering  \n 
URL:https://umeashotokan.se/evenemang/gradering-14-15-december/
END:VEVENT
BEGIN:VEVENT
DTSTART;TZID=Europe/Helsinki:20240903T000000
DTEND;TZID=Europe/Helsinki:20240903T000000
DTSTAMP:20260424T183237
CREATED:20240809T091541Z
LAST-MODIFIED:20240809T091541Z
UID:3352-1725321600-1725321600@umeashotokan.se
SUMMARY:Nybörjarstart. V36 från och med tisdag 3 september
DESCRIPTION:
URL:https://umeashotokan.se/evenemang/nyborjarstart-v36-fran-och-med-tisdag-3-september/
END:VEVENT
BEGIN:VEVENT
DTSTART;TZID=Europe/Helsinki:20240827T000000
DTEND;TZID=Europe/Helsinki:20240827T000000
DTSTAMP:20260424T183237
CREATED:20240809T091126Z
LAST-MODIFIED:20240809T091126Z
UID:3350-1724716800-1724716800@umeashotokan.se
SUMMARY:Terminsstart. v 35. tisdag 27 augusti
DESCRIPTION:
URL:https://umeashotokan.se/evenemang/terminsstart-v-35-tisdag-27-augusti/
END:VEVENT
BEGIN:VEVENT
DTSTART;VALUE=DATE:20240519
DTEND;VALUE=DATE:20240520
DTSTAMP:20260424T183237
CREATED:20240428T063753Z
LAST-MODIFIED:20240428T063753Z
UID:3267-1716076800-1716163199@umeashotokan.se
SUMMARY:Gradering
DESCRIPTION:Plats: Berghemsskolan \nLördag 18 maj \nKl 10:00 – 11:30               Barn\, Ungdomar och vuxna. \n  \nKl 14:00 – 15:30               Barn\, Ungdomar och vuxna. Kl 15:15 – 16:15 \n  \nSöndag 19 maj \nKL 10:00–14.00                                     Gradering 
URL:https://umeashotokan.se/evenemang/gradering-5/
END:VEVENT
BEGIN:VEVENT
DTSTART;VALUE=DATE:20240518
DTEND;VALUE=DATE:20240519
DTSTAMP:20260424T183237
CREATED:20240428T063708Z
LAST-MODIFIED:20240428T063708Z
UID:3265-1715990400-1716076799@umeashotokan.se
SUMMARY:Gradering
DESCRIPTION:Plats: Berghemsskolan \nLördag 18 maj \nKl 10:00 – 11:30               Barn\, Ungdomar och vuxna. \n  \nKl 14:00 – 15:30               Barn\, Ungdomar och vuxna. Kl 15:15 – 16:15 \n  \nSöndag 19 maj \nKL 10:00–14.00                                     Gradering 
URL:https://umeashotokan.se/evenemang/gradering-4/
END:VEVENT
BEGIN:VEVENT
DTSTART;TZID=Europe/Helsinki:20240501T080000
DTEND;TZID=Europe/Helsinki:20240501T170000
DTSTAMP:20260424T183237
CREATED:20240501T082048Z
LAST-MODIFIED:20240501T082048Z
UID:3270-1714550400-1714582800@umeashotokan.se
SUMMARY:Ingen träning 1: a maj. röd dag.
DESCRIPTION:
URL:https://umeashotokan.se/evenemang/ingen-traning-1-a-maj-rod-dag/
END:VEVENT
BEGIN:VEVENT
DTSTART;VALUE=DATE:20240427
DTEND;VALUE=DATE:20240429
DTSTAMP:20260424T183237
CREATED:20240306T100316Z
LAST-MODIFIED:20240306T100316Z
UID:3247-1714176000-1714348799@umeashotokan.se
SUMMARY:Träning med  Leslie Jensen\, JKA sweden. Skellefteå.
DESCRIPTION:Läger för brun- och svartbälten i Skellefteå med Leslie Jensen.
URL:https://umeashotokan.se/evenemang/traning-med-leslie-jensen-jka-sweden-skelleftea/
END:VEVENT
BEGIN:VEVENT
DTSTART;VALUE=DATE:20240413
DTEND;VALUE=DATE:20240415
DTSTAMP:20260424T183237
CREATED:20240306T133741Z
LAST-MODIFIED:20240306T133741Z
UID:3249-1712966400-1713139199@umeashotokan.se
SUMMARY:Läger kumite i Luleå.
DESCRIPTION:Välkommen till kumiteläger i Luleå!\nDen 13-14 april har ni chansen att vara med på ett toppenläger i Luleå! Alla stilar är välkomna. Barn\nsom är 10 år eller äldre är också välkomna förutsatt att deras tränare bedömer att de kan delta i en\nträning som inte är barnanpassad (alla tränar tillsammans).\nTa med tandskydd\, handskar samt skydd i övrigt som ni vill använda under lägret. Vi har lite skydd att\nlåna ut men inte så vi kan garantera att det räcker till alla. \nLunch dag 1 kan ni ta med er (vi har inga kyl- eller uppvärmningsmöjligheter)\, eller så kan vi\npromenera ut på stan och äta något.\nLägret kostar 400 kronor för vuxna\, och 100 kronor för barn mellan 10-15 år. \nVi vill att ni anmäler er via QR-koden på inbjudan \nHär finns mer information om vår instruktör: Georgios Michael Tzanos | Karate Athlete Personal Website – TzanosKarate.com.
URL:https://umeashotokan.se/evenemang/lager-kumite-i-lulea/
END:VEVENT
BEGIN:VEVENT
DTSTART;TZID=Europe/Helsinki:20240316T110000
DTEND;TZID=Europe/Helsinki:20240317T140000
DTSTAMP:20260424T183237
CREATED:20240306T095931Z
LAST-MODIFIED:20240306T095931Z
UID:3245-1710586800-1710684000@umeashotokan.se
SUMMARY:Ungdomssamling: 13-17 år. Skellefteå
DESCRIPTION:Övre Norrlands Karateförbund\, ÖNKF\, arrangerar helgen 16-17 mars en samling för ungdomar mellan 13-17 år i Budokan i Skellefteå.
URL:https://umeashotokan.se/evenemang/ungdomssamling-13-17-ar-skelleftea/
END:VEVENT
BEGIN:VEVENT
DTSTART;VALUE=DATE:20240310
DTEND;VALUE=DATE:20240311
DTSTAMP:20260424T183237
CREATED:20240306T095256Z
LAST-MODIFIED:20240306T095256Z
UID:3243-1710028800-1710115199@umeashotokan.se
SUMMARY:JKA sweden- öppet läger kata och kumite. Malmö
DESCRIPTION:
URL:https://umeashotokan.se/evenemang/jka-sweden-oppet-lager-kata-och-kumite-malmo/
END:VEVENT
BEGIN:VEVENT
DTSTART;VALUE=DATE:20240309
DTEND;VALUE=DATE:20240310
DTSTAMP:20260424T183237
CREATED:20240306T095054Z
LAST-MODIFIED:20240306T095054Z
UID:3241-1709942400-1710028799@umeashotokan.se
SUMMARY:Umeå shotokan deltar på JKA RM Malmö
DESCRIPTION:
URL:https://umeashotokan.se/evenemang/umea-shotokan-deltar-pa-jka-rm-malmo/
END:VEVENT
BEGIN:VEVENT
DTSTART;VALUE=DATE:20240306
DTEND;VALUE=DATE:20240307
DTSTAMP:20260424T183237
CREATED:20240306T092026Z
LAST-MODIFIED:20240306T092026Z
UID:3238-1709683200-1709769599@umeashotokan.se
SUMMARY:Träning som vanligt.
DESCRIPTION:Vi tränar som vanligt under sportlovet.
URL:https://umeashotokan.se/evenemang/traning-som-vanligt/
END:VEVENT
BEGIN:VEVENT
DTSTART;VALUE=DATE:20240201
DTEND;VALUE=DATE:20240301
DTSTAMP:20260424T183237
CREATED:20231231T092543Z
LAST-MODIFIED:20231231T092543Z
UID:3162-1706745600-1709251199@umeashotokan.se
SUMMARY:Nybörjarstart
DESCRIPTION:KOM OCH TRÄNA KARATE MED OSS! \nUnder februari  tränar du gratis. \nDu har  möjlighet att under februari prova på karate utan att betala. Om du tycker det är roligt så är det bara att fortsätta. inbetalningskort på medlemsavgift och träningsavgift kommer under mars månad via mailen.  Ta på dig en T-shirt och långa träningsbyxor.
URL:https://umeashotokan.se/evenemang/nyborjarstart/
END:VEVENT
BEGIN:VEVENT
DTSTART;TZID=Europe/Helsinki:20240109T000000
DTEND;TZID=Europe/Helsinki:20240109T000000
DTSTAMP:20260424T183237
CREATED:20231226T082150Z
LAST-MODIFIED:20231226T082940Z
UID:3156-1704758400-1704758400@umeashotokan.se
SUMMARY:Terminen börjar
DESCRIPTION:9 januari börjar vi träna igen efter julens uppehåll.
URL:https://umeashotokan.se/evenemang/terminen-borjar/
END:VEVENT
BEGIN:VEVENT
DTSTART;TZID=Europe/Helsinki:20231219T000000
DTEND;TZID=Europe/Helsinki:20231219T000000
DTSTAMP:20260424T183237
CREATED:20230319T211740Z
LAST-MODIFIED:20231217T213911Z
UID:3152-1702944000-1702944000@umeashotokan.se
SUMMARY:Sista träningen för terminen.
DESCRIPTION:Tisdag den 19 december är terminens titta träning.
URL:https://umeashotokan.se/evenemang/__trashed/
END:VEVENT
BEGIN:VEVENT
DTSTART;TZID=Europe/Helsinki:20230903T000000
DTEND;TZID=Europe/Helsinki:20230903T000000
DTSTAMP:20260424T183237
CREATED:20230802T070420Z
LAST-MODIFIED:20230802T070420Z
UID:3022-1693699200-1693699200@umeashotokan.se
SUMMARY:Nybörjarstart: Välkomna!
DESCRIPTION:
URL:https://umeashotokan.se/evenemang/nyborjarstart-valkomna/
END:VEVENT
END:VCALENDAR